BEGIN:VCALENDAR
VERSION:2.0
PRODID:-//Stavanger Accueil - ECPv4.6//NONSGML v1.0//EN
CALSCALE:GREGORIAN
METHOD:PUBLISH
X-WR-CALNAME:Stavanger Accueil
X-ORIGINAL-URL:http://www.stavangeraccueil.com/wordpress
X-WR-CALDESC:Events for Stavanger Accueil
BEGIN:VEVENT
DTSTART;TZID=UTC+2:20230930T100000
DTEND;TZID=UTC+2:20230930T113000
DTSTAMP:20260422T002917
CREATED:20230923T153458Z
LAST-MODIFIED:20230923T153900Z
UID:3482-1696068000-1696073400@www.stavangeraccueil.com
SUMMARY:Atelier théâtre/musique pour les enfants
DESCRIPTION:Contactez-nous si vous n’êtes pas inscrits \n
URL:http://www.stavangeraccueil.com/wordpress/event/atelier-theatre-musique-enfants
CATEGORIES:Clubs
END:VEVENT
END:VCALENDAR