BEGIN:VCALENDAR
VERSION:2.0
PRODID:-//Stavanger Accueil - ECPv4.6//NONSGML v1.0//EN
CALSCALE:GREGORIAN
METHOD:PUBLISH
X-WR-CALNAME:Stavanger Accueil
X-ORIGINAL-URL:http://www.stavangeraccueil.com/wordpress
X-WR-CALDESC:Events for Stavanger Accueil
BEGIN:VEVENT
DTSTART;TZID=UTC+2:20231208T170000
DTEND;TZID=UTC+2:20231208T200000
DTSTAMP:20260421T213018
CREATED:20230923T154244Z
LAST-MODIFIED:20230923T154244Z
UID:3491-1702054800-1702065600@www.stavangeraccueil.com
SUMMARY:Soirée de Noel
DESCRIPTION:
URL:http://www.stavangeraccueil.com/wordpress/event/soiree-de-noel-2
CATEGORIES:Clubs,Evènements
END:VEVENT
END:VCALENDAR