BEGIN:VCALENDAR
VERSION:2.0
PRODID:-//Stavanger Accueil - ECPv4.6//NONSGML v1.0//EN
CALSCALE:GREGORIAN
METHOD:PUBLISH
X-WR-CALNAME:Stavanger Accueil
X-ORIGINAL-URL:http://www.stavangeraccueil.com/wordpress
X-WR-CALDESC:Events for Stavanger Accueil
BEGIN:VEVENT
DTSTART;TZID=UTC+2:20230916T120000
DTEND;TZID=UTC+2:20230916T170000
DTSTAMP:20260422T020149
CREATED:20230923T154503Z
LAST-MODIFIED:20230923T154503Z
UID:3493-1694865600-1694883600@www.stavangeraccueil.com
SUMMARY:Sortie rando
DESCRIPTION:Sortie/promenade sur l’île de Langøy \n
URL:http://www.stavangeraccueil.com/wordpress/event/sortie-rando
CATEGORIES:Clubs
END:VEVENT
END:VCALENDAR