BEGIN:VCALENDAR
VERSION:2.0
PRODID:-//Stavanger Accueil - ECPv4.6//NONSGML v1.0//EN
CALSCALE:GREGORIAN
METHOD:PUBLISH
X-WR-CALNAME:Stavanger Accueil
X-ORIGINAL-URL:http://www.stavangeraccueil.com/wordpress
X-WR-CALDESC:Events for Stavanger Accueil
BEGIN:VEVENT
DTSTART;TZID=UTC+2:20231029T150000
DTEND;TZID=UTC+2:20231029T180000
DTSTAMP:20260422T003854
CREATED:20231017T184640Z
LAST-MODIFIED:20231017T184640Z
UID:3499-1698591600-1698602400@www.stavangeraccueil.com
SUMMARY:Halloween
DESCRIPTION:Comme chaque année\, retrouvons nous pour fêter Halloween!\nlieu: trollskogen ou bydelhus de Hundvåg en fonction de la météo.\ndétails à suivre \n
URL:http://www.stavangeraccueil.com/wordpress/event/halloween
CATEGORIES:Clubs,Evènements
END:VEVENT
END:VCALENDAR