BEGIN:VCALENDAR
VERSION:2.0
PRODID:-//Stavanger Accueil - ECPv4.6//NONSGML v1.0//EN
CALSCALE:GREGORIAN
METHOD:PUBLISH
X-WR-CALNAME:Stavanger Accueil
X-ORIGINAL-URL:http://www.stavangeraccueil.com/wordpress
X-WR-CALDESC:Events for Stavanger Accueil
BEGIN:VEVENT
DTSTART;TZID=UTC+2:20231202T100000
DTEND;TZID=UTC+2:20231202T113000
DTSTAMP:20260421T230921
CREATED:20230923T154138Z
LAST-MODIFIED:20230923T154138Z
UID:3489-1701511200-1701516600@www.stavangeraccueil.com
SUMMARY:Atelier théâtre/musique pour les enfants
DESCRIPTION:Contactez-nous si vous n’êtes pas inscrits \n
URL:http://www.stavangeraccueil.com/wordpress/event/atelier-theatre-musique-enfants-4
CATEGORIES:Clubs
END:VEVENT
END:VCALENDAR