BEGIN:VCALENDAR
VERSION:2.0
PRODID:-//Stavanger Accueil - ECPv4.6//NONSGML v1.0//EN
CALSCALE:GREGORIAN
METHOD:PUBLISH
X-WR-CALNAME:Stavanger Accueil
X-ORIGINAL-URL:http://www.stavangeraccueil.com/wordpress
X-WR-CALDESC:Events for Stavanger Accueil
BEGIN:VEVENT
DTSTART;TZID=UTC+2:20240420T100000
DTEND;TZID=UTC+2:20240420T113000
DTSTAMP:20260421T151943
CREATED:20240107T155742Z
LAST-MODIFIED:20240107T155742Z
UID:3514-1713607200-1713612600@www.stavangeraccueil.com
SUMMARY:Atelier théâtre/musique pour les enfants
DESCRIPTION:Détails et lieu dans vos boîtes mails.\nContactez-nous si vous êtes intéressés\, ou si vous voulez rejoindre ce club. \n
URL:http://www.stavangeraccueil.com/wordpress/event/atelier-theatre-musique-enfants-8
CATEGORIES:Clubs
END:VEVENT
END:VCALENDAR